BEGIN:VCALENDAR
VERSION:2.0
PRODID:spatie/icalendar-generator
DESCRIPTION:Events from Bluebonnet Nudist Park
X-WR-CALDESC:Events from Bluebonnet Nudist Park
REFRESH-INTERVAL;VALUE=DURATION:PT1440M
X-PUBLISHED-TTL:PT1440M
BEGIN:VTIMEZONE
TZID:Etc/GMT+0
BEGIN:STANDARD
DTSTART:20241202T000000Z
TZOFFSETFROM:+0000
TZOFFSETTO:+0000
END:STANDARD
END:VTIMEZONE
BEGIN:VTIMEZONE
TZID:UTC
BEGIN:STANDARD
DTSTART:20250727T115207Z
TZOFFSETFROM:+0000
TZOFFSETTO:+0000
END:STANDARD
END:VTIMEZONE
BEGIN:VEVENT
UID:82-56
DTSTAMP:20260423T115207Z
SUMMARY:PARROTHEAD/LABOR DAY WEEKEND
LOCATION:Bluebonnet Nudist Park 699 CR 1180  Alvord TX  76225
ORGANIZER;CN=admin:MAILTO:james@truebluefirm.com
DTSTART;TZID=Etc/GMT+0;VALUE=DATE:20250829
DTEND;TZID=Etc/GMT+0;VALUE=DATE:20250902
X-ALT-DESC;FMTTYPE=TEXT/HTML:
CATEGORIES:Major Event
URL;VALUE=URI:https://bluebonnetnudistpark.com/calendar/parrothead-labor-da
 y-weekend/
METHOD:PUBLISH
END:VEVENT
END:VCALENDAR